BEGIN:VCALENDAR
VERSION:2.0
PRODID:-//Contratero//ES
CALSCALE:GREGORIAN
METHOD:PUBLISH
BEGIN:VEVENT
UID:CM 74/22@contratero.es
DTSTAMP:20260420T140302Z
DTSTART:20230201T235959
DTEND:20230202T005959
SUMMARY:Cierre: Servicio de gestión integral para la compra\, mante
DESCRIPTION:Servicio de gestión integral para la compra\, mantenimiento y renovación de dominios y hosting de las páginas web de la Sociedad Pública de Gestión y Promoción Turística y Cultural del Principado de As...\\n\\nOrganismo: Sociedad Pública de Gestión y Promoción Turística y Cultural del Principado de Asturias S.A.U.\\n\\nVer en Contratero: https://contratero.es/contracts/CM 74/22
URL:https://contratero.es/contracts/CM 74/22
STATUS:CONFIRMED
BEGIN:VALARM
TRIGGER:-P1D
ACTION:DISPLAY
DESCRIPTION:Recordatorio: Servicio de gestión integral p
END:VALARM
END:VEVENT
END:VCALENDAR